BEGIN:VCALENDAR
VERSION:2.0
PRODID:-//eventon.com NONSGML v1.0//EN
CALSCALE:GREGORIAN
METHOD:PUBLISH
BEGIN:VEVENT
UID:69e90e658d172
DTSTAMP:20260422T180733Z
DTSTART:20251004T210000Z
DTEND:20251004T230000Z
LOCATION:
SUMMARY:Bill Toomey
DESCRIPTION:Bill Toomey\nhttps://capeannmarina.com/events/bill-toomey/
URL:https://capeannmarina.com/events/bill-toomey/
END:VEVENT
END:VCALENDAR