BEGIN:VCALENDAR
VERSION:2.0
PRODID:-//eventon.com NONSGML v1.0//EN
CALSCALE:GREGORIAN
METHOD:PUBLISH
BEGIN:VEVENT
UID:69e89ec556dea
DTSTAMP:20260422T101117Z
DTSTART:20250625T213000Z
DTEND:20250625T233000Z
LOCATION:
SUMMARY:CHRIS + JOE
DESCRIPTION:CHRIS + JOE\nhttps://capeannmarina.com/events/chris-joe/
URL:https://capeannmarina.com/events/chris-joe/
END:VEVENT
END:VCALENDAR