BEGIN:VCALENDAR
VERSION:2.0
PRODID:-//eventon.com NONSGML v1.0//EN
CALSCALE:GREGORIAN
METHOD:PUBLISH
BEGIN:VEVENT
UID:69e5f0bb0648f
DTSTAMP:20260420T092411Z
DTSTART:20250712T210000Z
DTEND:20250712T230000Z
LOCATION:
SUMMARY:"Delvis" Dulong
DESCRIPTION:"Delvis" Dulong\nhttps://capeannmarina.com/events/delvis-dulong
 /
URL:https://capeannmarina.com/events/delvis-dulong/
END:VEVENT
END:VCALENDAR