BEGIN:VCALENDAR
VERSION:2.0
PRODID:-//eventon.com NONSGML v1.0//EN
CALSCALE:GREGORIAN
METHOD:PUBLISH
BEGIN:VEVENT
UID:69e89db21206e
DTSTAMP:20260422T100642Z
DTSTART:20250621T210000Z
DTEND:20250621T230000Z
LOCATION:
SUMMARY:The Bordellos
DESCRIPTION:The Bordellos\nhttps://capeannmarina.com/events/the-bordellos/
URL:https://capeannmarina.com/events/the-bordellos/
END:VEVENT
END:VCALENDAR